Package: ChemmineR Version: 3.61.2 Command: /home/biocbuild/bbs-3.22-bioc/R/bin/R CMD check --install=check:ChemmineR.install-out.txt --library=/home/biocbuild/bbs-3.22-bioc/R/site-library --timings ChemmineR_3.61.2.tar.gz StartedAt: 2025-10-22 22:06:48 -0400 (Wed, 22 Oct 2025) EndedAt: 2025-10-22 22:09:03 -0400 (Wed, 22 Oct 2025) EllapsedTime: 134.2 seconds RetCode: 0 Status: WARNINGS CheckDir: ChemmineR.Rcheck Warnings: 2