Package: ChemmineR Version: 3.63.0 Command: /home/biocbuild/bbs-3.23-bioc/R/bin/R CMD INSTALL ChemmineR StartedAt: 2025-11-20 15:11:11 -0500 (Thu, 20 Nov 2025) EndedAt: 2025-11-20 15:11:35 -0500 (Thu, 20 Nov 2025) EllapsedTime: 24.5 seconds RetCode: 0 Status: OK