Package: ChemmineR Version: 3.63.0 Command: /home/biocbuild/bbs-3.23-bioc/R/bin/R CMD check --install=check:ChemmineR.install-out.txt --library=/home/biocbuild/bbs-3.23-bioc/R/site-library --timings ChemmineR_3.63.0.tar.gz StartedAt: 2025-11-21 21:58:24 -0500 (Fri, 21 Nov 2025) EndedAt: 2025-11-21 22:00:46 -0500 (Fri, 21 Nov 2025) EllapsedTime: 142.2 seconds RetCode: 0 Status: WARNINGS CheckDir: ChemmineR.Rcheck Warnings: 2