Package: ChemmineR Version: 3.63.0 Command: /home/biocbuild/bbs-3.23-bioc/R/bin/R CMD build --keep-empty-dirs --no-resave-data ChemmineR StartedAt: 2025-11-20 16:45:39 -0500 (Thu, 20 Nov 2025) EndedAt: 2025-11-20 16:46:32 -0500 (Thu, 20 Nov 2025) EllapsedTime: 53.0 seconds RetCode: 0 Status: OK PackageFile: ChemmineR_3.63.0.tar.gz PackageFileSize: 2.099 MiB