Package: ChemmineR Version: 3.61.2 Command: /Library/Frameworks/R.framework/Resources/bin/R CMD INSTALL ChemmineR StartedAt: 2025-10-03 15:13:17 -0400 (Fri, 03 Oct 2025) EndedAt: 2025-10-03 15:13:50 -0400 (Fri, 03 Oct 2025) EllapsedTime: 32.9 seconds RetCode: 0 Status: OK