Package: ChemmineR Version: 3.61.2 Command: /Library/Frameworks/R.framework/Resources/bin/R CMD build --keep-empty-dirs --no-resave-data ChemmineR StartedAt: 2025-10-03 16:22:38 -0400 (Fri, 03 Oct 2025) EndedAt: 2025-10-03 16:24:00 -0400 (Fri, 03 Oct 2025) EllapsedTime: 82.3 seconds RetCode: 0 Status: OK PackageFile: ChemmineR_3.61.2.tar.gz PackageFileSize: 2.243 MiB