Package: ChemmineR Version: 3.61.2 Command: rm -rf ChemmineR.buildbin-libdir && mkdir ChemmineR.buildbin-libdir && /Users/biocbuild/BBS/utils/build-universal.sh ChemmineR_3.61.2.tar.gz /Library/Frameworks/R.framework/Resources/bin/R ChemmineR.buildbin-libdir StartedAt: 2025-10-04 01:57:22 -0400 (Sat, 04 Oct 2025) EndedAt: 2025-10-04 01:58:05 -0400 (Sat, 04 Oct 2025) EllapsedTime: 42.4 seconds RetCode: 0 Status: OK PackageFile: ChemmineR_3.61.2.tgz PackageFileSize: 2.625 MiB