Package: ChemmineR Version: 3.61.2 Maintainer: Thomas Girke MaintainerEmail: thomas.girke at ucr.edu git_url: https://git.bioconductor.org/packages/ChemmineR git_branch: devel git_last_commit: f54ad3e git_last_commit_date: 2025-09-09 11:35:36 -0400 (Tue, 09 Sep 2025)