Package: ChemmineOB Version: 1.49.0 Command: /home/biocbuild/bbs-3.23-bioc/R/bin/R CMD INSTALL ChemmineOB StartedAt: 2025-11-20 15:11:11 -0500 (Thu, 20 Nov 2025) EndedAt: 2025-11-20 15:13:01 -0500 (Thu, 20 Nov 2025) EllapsedTime: 109.5 seconds RetCode: 0 Status: OK