Package: ChemmineOB Version: 1.47.5 Command: /Library/Frameworks/R.framework/Resources/bin/R CMD INSTALL ChemmineOB StartedAt: 2025-10-03 15:06:42 -0400 (Fri, 03 Oct 2025) EndedAt: 2025-10-03 15:06:44 -0400 (Fri, 03 Oct 2025) EllapsedTime: 2.6 seconds RetCode: 1 Status: ERROR