Package: ChemmineOB Version: 1.49.0 Maintainer: Thomas Girke MaintainerEmail: thomas.girke at ucr.edu git_url: https://git.bioconductor.org/packages/ChemmineOB git_branch: devel git_last_commit: f44ed31 git_last_commit_date: 2025-10-29 10:16:04 -0400 (Wed, 29 Oct 2025)