Package: ChIPsim Version: 1.63.0 Command: /home/biocbuild/R/R/bin/R CMD INSTALL ChIPsim StartedAt: 2025-10-06 21:11:54 -0000 (Mon, 06 Oct 2025) EndedAt: 2025-10-06 21:12:32 -0000 (Mon, 06 Oct 2025) EllapsedTime: 38.2 seconds RetCode: 0 Status: OK