Package: ChIPsim Version: 1.63.0 Command: chmod a+r ChIPsim -R && F:\biocbuild\bbs-3.22-bioc\R\bin\R.exe CMD build --keep-empty-dirs --no-resave-data ChIPsim StartedAt: 2025-08-14 19:06:37 -0400 (Thu, 14 Aug 2025) EndedAt: 2025-08-14 19:08:13 -0400 (Thu, 14 Aug 2025) EllapsedTime: 95.4 seconds RetCode: 0 Status: OK PackageFile: ChIPsim_1.63.0.tar.gz PackageFileSize: 520.9 KiB