Package: ChIPsim Version: 1.65.0 Command: /home/biocbuild/bbs-3.23-bioc/R/bin/R CMD check --install=check:ChIPsim.install-out.txt --library=/home/biocbuild/bbs-3.23-bioc/R/site-library --timings ChIPsim_1.65.0.tar.gz StartedAt: 2025-11-06 21:50:16 -0500 (Thu, 06 Nov 2025) EndedAt: 2025-11-06 21:54:17 -0500 (Thu, 06 Nov 2025) EllapsedTime: 240.3 seconds RetCode: 0 Status: OK CheckDir: ChIPsim.Rcheck Warnings: 0