Package: ChIPsim Version: 1.65.0 Command: /home/biocbuild/bbs-3.23-bioc/R/bin/R CMD build --keep-empty-dirs --no-resave-data ChIPsim StartedAt: 2025-11-04 16:45:29 -0500 (Tue, 04 Nov 2025) EndedAt: 2025-11-04 16:46:36 -0500 (Tue, 04 Nov 2025) EllapsedTime: 67.1 seconds RetCode: 0 Status: OK PackageFile: ChIPsim_1.65.0.tar.gz PackageFileSize: 647.1 KiB