Package: ChIPseqR Version: 1.63.0 Command: rm -rf ChIPseqR.buildbin-libdir && mkdir ChIPseqR.buildbin-libdir && F:\biocbuild\bbs-3.22-bioc\R\bin\R.exe CMD INSTALL --build --library=ChIPseqR.buildbin-libdir ChIPseqR_1.63.0.tar.gz StartedAt: 2025-08-15 09:57:15 -0400 (Fri, 15 Aug 2025) EndedAt: 2025-08-15 09:58:29 -0400 (Fri, 15 Aug 2025) EllapsedTime: 73.8 seconds RetCode: 0 Status: OK PackageFile: ChIPseqR_1.63.0.zip PackageFileSize: 1.337 MiB