Package: ChIPseqR Version: 1.65.0 Command: /home/biocbuild/bbs-3.23-bioc/R/bin/R CMD check --install=check:ChIPseqR.install-out.txt --library=/home/biocbuild/bbs-3.23-bioc/R/site-library --timings ChIPseqR_1.65.0.tar.gz StartedAt: 2025-11-06 21:50:05 -0500 (Thu, 06 Nov 2025) EndedAt: 2025-11-06 21:54:46 -0500 (Thu, 06 Nov 2025) EllapsedTime: 280.4 seconds RetCode: 0 Status: OK CheckDir: ChIPseqR.Rcheck Warnings: 0