Package: ChIPseqR Version: 1.65.0 Command: /home/biocbuild/bbs-3.23-bioc/R/bin/R CMD build --keep-empty-dirs --no-resave-data ChIPseqR StartedAt: 2025-11-05 16:52:49 -0500 (Wed, 05 Nov 2025) EndedAt: 2025-11-05 16:54:03 -0500 (Wed, 05 Nov 2025) EllapsedTime: 74.1 seconds RetCode: 0 Status: OK PackageFile: ChIPseqR_1.65.0.tar.gz PackageFileSize: 729.4 KiB