Package: ChIPseeker Version: 1.45.3 Command: /Library/Frameworks/R.framework/Resources/bin/R CMD INSTALL ChIPseeker StartedAt: 2025-10-23 15:50:11 -0400 (Thu, 23 Oct 2025) EndedAt: 2025-10-23 15:51:15 -0400 (Thu, 23 Oct 2025) EllapsedTime: 63.6 seconds RetCode: 0 Status: OK