Package: ChIPseeker Version: 1.45.3 Command: /Library/Frameworks/R.framework/Resources/bin/R CMD build --keep-empty-dirs --no-resave-data ChIPseeker StartedAt: 2025-10-23 16:24:02 -0400 (Thu, 23 Oct 2025) EndedAt: 2025-10-23 16:38:50 -0400 (Thu, 23 Oct 2025) EllapsedTime: 887.8 seconds RetCode: 0 Status: OK PackageFile: ChIPseeker_1.45.3.tar.gz PackageFileSize: 7.416 MiB