Package: ChIPseeker Version: 1.45.3 Command: rm -rf ChIPseeker.buildbin-libdir && mkdir ChIPseeker.buildbin-libdir && /Users/biocbuild/BBS/utils/build-universal.sh ChIPseeker_1.45.3.tar.gz /Library/Frameworks/R.framework/Resources/bin/R ChIPseeker.buildbin-libdir StartedAt: 2025-10-24 01:26:40 -0400 (Fri, 24 Oct 2025) EndedAt: 2025-10-24 01:27:44 -0400 (Fri, 24 Oct 2025) EllapsedTime: 63.7 seconds RetCode: 0 Status: OK PackageFile: ChIPseeker_1.45.3.tgz PackageFileSize: 7.404 MiB