Package: ChIPseeker Version: 1.45.0 Command: /Library/Frameworks/R.framework/Resources/bin/R CMD INSTALL ChIPseeker StartedAt: 2025-10-12 15:31:15 -0400 (Sun, 12 Oct 2025) EndedAt: 2025-10-12 15:31:35 -0400 (Sun, 12 Oct 2025) EllapsedTime: 19.4 seconds RetCode: 0 Status: OK