Package: ChIPseeker Version: 1.45.0 Command: /Library/Frameworks/R.framework/Resources/bin/R CMD build --keep-empty-dirs --no-resave-data ChIPseeker StartedAt: 2025-10-12 15:54:37 -0400 (Sun, 12 Oct 2025) EndedAt: 2025-10-12 15:59:27 -0400 (Sun, 12 Oct 2025) EllapsedTime: 289.2 seconds RetCode: 0 Status: OK PackageFile: ChIPseeker_1.45.0.tar.gz PackageFileSize: 7.415 MiB