Package: ChIPpeakAnno Version: 3.45.2 Command: /Library/Frameworks/R.framework/Resources/bin/R CMD INSTALL ChIPpeakAnno StartedAt: 2025-11-21 15:45:46 -0500 (Fri, 21 Nov 2025) EndedAt: 2025-11-21 15:48:07 -0500 (Fri, 21 Nov 2025) EllapsedTime: 141.0 seconds RetCode: 0 Status: OK