Package: ChIPpeakAnno Version: 3.45.2 Command: /Library/Frameworks/R.framework/Resources/bin/R CMD build --keep-empty-dirs --no-resave-data ChIPpeakAnno StartedAt: 2025-11-21 16:27:36 -0500 (Fri, 21 Nov 2025) EndedAt: 2025-11-21 16:47:01 -0500 (Fri, 21 Nov 2025) EllapsedTime: 1165.1 seconds RetCode: 0 Status: OK PackageFile: ChIPpeakAnno_3.45.2.tar.gz PackageFileSize: 21.53 MiB