Package: ChIPpeakAnno Version: 3.44.0 Command: /Library/Frameworks/R.framework/Resources/bin/R CMD INSTALL ChIPpeakAnno StartedAt: 2025-10-29 21:48:53 -0400 (Wed, 29 Oct 2025) EndedAt: 2025-10-29 21:49:40 -0400 (Wed, 29 Oct 2025) EllapsedTime: 47.0 seconds RetCode: 0 Status: OK