Package: ChIPpeakAnno Version: 3.44.0 Command: rm -rf ChIPpeakAnno.buildbin-libdir && mkdir ChIPpeakAnno.buildbin-libdir && /Users/biocbuild/BBS/utils/build-universal.sh ChIPpeakAnno_3.44.0.tar.gz /Library/Frameworks/R.framework/Resources/bin/R ChIPpeakAnno.buildbin-libdir StartedAt: 2025-10-30 05:19:10 -0400 (Thu, 30 Oct 2025) EndedAt: 2025-10-30 05:20:01 -0400 (Thu, 30 Oct 2025) EllapsedTime: 51.0 seconds RetCode: 0 Status: OK PackageFile: ChIPpeakAnno_3.44.0.tgz PackageFileSize: 22.64 MiB