Package: ChIPexoQual Version: 1.35.0 Command: /home/biocbuild/bbs-3.23-bioc/R/bin/R CMD INSTALL ChIPexoQual StartedAt: 2025-11-04 15:41:46 -0500 (Tue, 04 Nov 2025) EndedAt: 2025-11-04 15:42:31 -0500 (Tue, 04 Nov 2025) EllapsedTime: 45.1 seconds RetCode: 0 Status: OK