Package: ChIPexoQual Version: 1.35.0 Command: /home/biocbuild/bbs-3.23-bioc/R/bin/R CMD build --keep-empty-dirs --no-resave-data ChIPexoQual StartedAt: 2025-11-04 16:45:09 -0500 (Tue, 04 Nov 2025) EndedAt: 2025-11-04 16:47:36 -0500 (Tue, 04 Nov 2025) EllapsedTime: 147.1 seconds RetCode: 0 Status: OK PackageFile: ChIPexoQual_1.35.0.tar.gz PackageFileSize: 2.336 MiB