Package: ChIPexoQual Version: 1.33.1 Command: /Library/Frameworks/R.framework/Resources/bin/R CMD INSTALL ChIPexoQual StartedAt: 2025-10-06 15:38:14 -0400 (Mon, 06 Oct 2025) EndedAt: 2025-10-06 15:39:17 -0400 (Mon, 06 Oct 2025) EllapsedTime: 62.4 seconds RetCode: 0 Status: OK