Package: ChIPexoQual Version: 1.33.1 Command: /Library/Frameworks/R.framework/Resources/bin/R CMD build --keep-empty-dirs --no-resave-data ChIPexoQual StartedAt: 2025-10-07 16:24:47 -0400 (Tue, 07 Oct 2025) EndedAt: 2025-10-07 16:27:49 -0400 (Tue, 07 Oct 2025) EllapsedTime: 181.8 seconds RetCode: 0 Status: OK PackageFile: ChIPexoQual_1.33.1.tar.gz PackageFileSize: 2.459 MiB