Package: ChIPexoQual Version: 1.33.1 Command: rm -rf ChIPexoQual.buildbin-libdir && mkdir ChIPexoQual.buildbin-libdir && /Users/biocbuild/BBS/utils/build-universal.sh ChIPexoQual_1.33.1.tar.gz /Library/Frameworks/R.framework/Resources/bin/R ChIPexoQual.buildbin-libdir StartedAt: 2025-10-07 02:02:13 -0400 (Tue, 07 Oct 2025) EndedAt: 2025-10-07 02:03:19 -0400 (Tue, 07 Oct 2025) EllapsedTime: 65.5 seconds RetCode: 0 Status: OK PackageFile: ChIPexoQual_1.33.1.tgz PackageFileSize: 2.523 MiB