Package: ChIPexoQual Version: 1.33.1 Maintainer: Rene Welch MaintainerEmail: welch at stat.wisc.edu git_url: https://git.bioconductor.org/packages/ChIPexoQual git_branch: devel git_last_commit: e8d4f92 git_last_commit_date: 2025-06-22 03:46:49 -0400 (Sun, 22 Jun 2025)