Package: ChIPanalyser Version: 1.33.0 Command: /home/biocbuild/bbs-3.23-bioc/R/bin/R CMD INSTALL ChIPanalyser StartedAt: 2025-11-04 15:28:51 -0500 (Tue, 04 Nov 2025) EndedAt: 2025-11-04 15:29:29 -0500 (Tue, 04 Nov 2025) EllapsedTime: 37.3 seconds RetCode: 0 Status: OK