Package: ChIPanalyser Version: 1.33.0 Command: /home/biocbuild/bbs-3.23-bioc/R/bin/R CMD build --keep-empty-dirs --no-resave-data ChIPanalyser StartedAt: 2025-11-04 16:45:02 -0500 (Tue, 04 Nov 2025) EndedAt: 2025-11-04 17:00:36 -0500 (Tue, 04 Nov 2025) EllapsedTime: 934.9 seconds RetCode: 0 Status: OK PackageFile: ChIPanalyser_1.33.0.tar.gz PackageFileSize: 1.187 MiB