Package: ChIPanalyser Version: 1.31.0 Command: /Library/Frameworks/R.framework/Resources/bin/R CMD INSTALL ChIPanalyser StartedAt: 2025-10-09 15:30:12 -0400 (Thu, 09 Oct 2025) EndedAt: 2025-10-09 15:31:07 -0400 (Thu, 09 Oct 2025) EllapsedTime: 54.8 seconds RetCode: 0 Status: OK