Package: ChIPanalyser Version: 1.31.0 Command: rm -rf ChIPanalyser.buildbin-libdir && mkdir ChIPanalyser.buildbin-libdir && /Users/biocbuild/BBS/utils/build-universal.sh ChIPanalyser_1.31.0.tar.gz /Library/Frameworks/R.framework/Resources/bin/R ChIPanalyser.buildbin-libdir StartedAt: 2025-10-10 02:27:04 -0400 (Fri, 10 Oct 2025) EndedAt: 2025-10-10 02:28:01 -0400 (Fri, 10 Oct 2025) EllapsedTime: 57.8 seconds RetCode: 0 Status: OK PackageFile: ChIPanalyser_1.31.0.tgz PackageFileSize: 1.858 MiB