Package: ChIPanalyser Version: 1.31.0 Maintainer: Patrick C.N. Martin MaintainerEmail: pcnmartin at gmail.com git_url: https://git.bioconductor.org/packages/ChIPanalyser git_branch: devel git_last_commit: 27504b9 git_last_commit_date: 2025-09-03 14:37:38 -0400 (Wed, 03 Sep 2025)