Package: ChIPXpress Version: 1.53.0 Command: /home/biocbuild/R/R/bin/R CMD INSTALL ChIPXpress StartedAt: 2025-10-23 21:26:45 -0000 (Thu, 23 Oct 2025) EndedAt: 2025-10-23 21:27:23 -0000 (Thu, 23 Oct 2025) EllapsedTime: 38.4 seconds RetCode: 0 Status: OK