Package: ChIPXpress Version: 1.53.0 Command: /home/biocbuild/R/R/bin/R CMD build --keep-empty-dirs --no-resave-data ChIPXpress StartedAt: 2025-10-20 22:41:39 -0000 (Mon, 20 Oct 2025) EndedAt: 2025-10-20 22:42:54 -0000 (Mon, 20 Oct 2025) EllapsedTime: 75.0 seconds RetCode: 0 Status: OK PackageFile: ChIPXpress_1.53.0.tar.gz PackageFileSize: 440.8 KiB