Package: ChIPXpress Version: 1.53.0 Command: /home/biocbuild/bbs-3.22-bioc/R/bin/R CMD check --install=check:ChIPXpress.install-out.txt --library=/home/biocbuild/bbs-3.22-bioc/R/site-library --timings ChIPXpress_1.53.0.tar.gz StartedAt: 2025-10-10 22:22:33 -0400 (Fri, 10 Oct 2025) EndedAt: 2025-10-10 22:26:29 -0400 (Fri, 10 Oct 2025) EllapsedTime: 236.2 seconds RetCode: 0 Status: OK CheckDir: ChIPXpress.Rcheck Warnings: 0