Package: ChIPXpress Version: 1.55.0 Command: /home/biocbuild/bbs-3.23-bioc/R/bin/R CMD INSTALL ChIPXpress StartedAt: 2025-11-20 16:00:45 -0500 (Thu, 20 Nov 2025) EndedAt: 2025-11-20 16:01:15 -0500 (Thu, 20 Nov 2025) EllapsedTime: 29.4 seconds RetCode: 0 Status: OK