Package: ChIPXpress Version: 1.55.0 Command: /home/biocbuild/bbs-3.23-bioc/R/bin/R CMD check --install=check:ChIPXpress.install-out.txt --library=/home/biocbuild/bbs-3.23-bioc/R/site-library --timings ChIPXpress_1.55.0.tar.gz StartedAt: 2025-11-21 22:02:26 -0500 (Fri, 21 Nov 2025) EndedAt: 2025-11-21 22:06:25 -0500 (Fri, 21 Nov 2025) EllapsedTime: 239.3 seconds RetCode: 0 Status: OK CheckDir: ChIPXpress.Rcheck Warnings: 0