Package: ChIPXpress Version: 1.55.0 Command: /home/biocbuild/bbs-3.23-bioc/R/bin/R CMD build --keep-empty-dirs --no-resave-data ChIPXpress StartedAt: 2025-11-20 16:48:07 -0500 (Thu, 20 Nov 2025) EndedAt: 2025-11-20 16:49:01 -0500 (Thu, 20 Nov 2025) EllapsedTime: 54.0 seconds RetCode: 0 Status: OK PackageFile: ChIPXpress_1.55.0.tar.gz PackageFileSize: 447.7 KiB