Package: ChIPQC Version: 1.45.0 Command: /home/biocbuild/R/R/bin/R CMD INSTALL ChIPQC StartedAt: 2025-10-13 21:50:57 -0000 (Mon, 13 Oct 2025) EndedAt: 2025-10-13 21:52:07 -0000 (Mon, 13 Oct 2025) EllapsedTime: 69.6 seconds RetCode: 0 Status: OK