Package: ChIPQC Version: 1.45.0 Command: /home/biocbuild/R/R/bin/R CMD build --keep-empty-dirs --no-resave-data ChIPQC StartedAt: 2025-10-13 23:06:13 -0000 (Mon, 13 Oct 2025) EndedAt: 2025-10-13 23:08:05 -0000 (Mon, 13 Oct 2025) EllapsedTime: 112.0 seconds RetCode: 0 Status: OK PackageFile: ChIPQC_1.45.0.tar.gz PackageFileSize: 1.517 MiB