Package: ChIPQC Version: 1.47.0 Command: /home/biocbuild/bbs-3.23-bioc/R/bin/R CMD build --keep-empty-dirs --no-resave-data ChIPQC StartedAt: 2025-11-05 16:52:41 -0500 (Wed, 05 Nov 2025) EndedAt: 2025-11-05 16:52:42 -0500 (Wed, 05 Nov 2025) EllapsedTime: 1.0 seconds RetCode: 1 Status: ERROR PackageFile: None PackageFileSize: NA