Package: ChIPComp Version: 1.41.0 Command: /home/biocbuild/bbs-3.23-bioc/R/bin/R CMD check --install=check:ChIPComp.install-out.txt --library=/home/biocbuild/bbs-3.23-bioc/R/site-library --timings ChIPComp_1.41.0.tar.gz StartedAt: 2025-11-05 21:57:20 -0500 (Wed, 05 Nov 2025) EndedAt: 2025-11-05 22:01:38 -0500 (Wed, 05 Nov 2025) EllapsedTime: 258.4 seconds RetCode: 0 Status: OK CheckDir: ChIPComp.Rcheck Warnings: 0