Package: ChAMP Version: 2.41.0 Command: /home/biocbuild/bbs-3.23-bioc/R/bin/R CMD INSTALL ChAMP StartedAt: 2025-11-04 16:05:06 -0500 (Tue, 04 Nov 2025) EndedAt: 2025-11-04 16:06:12 -0500 (Tue, 04 Nov 2025) EllapsedTime: 65.3 seconds RetCode: 0 Status: OK