Package: ChAMP Version: 2.41.0 Command: /home/biocbuild/bbs-3.23-bioc/R/bin/R CMD build --keep-empty-dirs --no-resave-data ChAMP StartedAt: 2025-11-05 16:50:45 -0500 (Wed, 05 Nov 2025) EndedAt: 2025-11-05 16:52:47 -0500 (Wed, 05 Nov 2025) EllapsedTime: 122.1 seconds RetCode: 0 Status: OK PackageFile: ChAMP_2.41.0.tar.gz PackageFileSize: 7.949 MiB